BEGIN:VCALENDAR
VERSION:2.0
BEGIN:VEVENT
URL:https://tickets.localtix.com.au/outlet/event/f7b3de25-3e76-4457-8b53-adcb233e84a4
DTSTART:20260627T010000Z
DTEND:20260627T010000Z
SUMMARY:Lockyer Valley Race Day featuring the 2026 Ladbrokes Gatton Cup
DESCRIPTION:Event details: https://tickets.localtix.com.au/outlet/event/f7b3de25-3e76-4457-8b53-adcb233e84a4
LOCATION:Lockyer Valley Turf Club (Gatton , QLD)
END:VEVENT
END:VCALENDAR